BEGIN:VCALENDAR
VERSION:2.0
PRODID:-//FOUSP - ECPv6.15.20//NONSGML v1.0//EN
CALSCALE:GREGORIAN
METHOD:PUBLISH
X-WR-CALNAME:FOUSP
X-ORIGINAL-URL:https://site.fo.usp.br
X-WR-CALDESC:Eventos para FOUSP
REFRESH-INTERVAL;VALUE=DURATION:PT1H
X-Robots-Tag:noindex
X-PUBLISHED-TTL:PT1H
BEGIN:VTIMEZONE
TZID:America/Sao_Paulo
BEGIN:STANDARD
TZOFFSETFROM:-0300
TZOFFSETTO:-0300
TZNAME:-03
DTSTART:20230101T000000
END:STANDARD
END:VTIMEZONE
BEGIN:VEVENT
DTSTART;TZID=America/Sao_Paulo:20240820T083000
DTEND;TZID=America/Sao_Paulo:20240820T123000
DTSTAMP:20260424T042125
CREATED:20240614T185026Z
LAST-MODIFIED:20240614T185034Z
UID:10000433-1724142600-1724157000@site.fo.usp.br
SUMMARY:Dissertação de Mestrado de Luciana Akemi Yamaguchi Bassani
DESCRIPTION:
URL:https://site.fo.usp.br/evento/dissertacao-de-mestrado-de-luciana-akemi-yamaguchi-bassani/
CATEGORIES:Defesa de Tese
ATTACH;FMTTYPE=image/jpeg:https://site.fo.usp.br/wp-content/uploads/2024/06/Imagem-do-WhatsApp-de-2024-06-14-as-15.40.10_0ffeea0e.jpg
END:VEVENT
BEGIN:VEVENT
DTSTART;TZID=America/Sao_Paulo:20240820T143000
DTEND;TZID=America/Sao_Paulo:20240820T153000
DTSTAMP:20260424T042125
CREATED:20240807T174508Z
LAST-MODIFIED:20240807T174514Z
UID:10000457-1724164200-1724167800@site.fo.usp.br
SUMMARY:Reunião da Comissão de Pesquisa
DESCRIPTION:
URL:https://site.fo.usp.br/evento/reuniao-da-comissao-de-pesquisa/
CATEGORIES:Comissão de Pesquisa,Reunião
END:VEVENT
BEGIN:VEVENT
DTSTART;TZID=America/Sao_Paulo:20240821T130000
DTEND;TZID=America/Sao_Paulo:20240821T180000
DTSTAMP:20260424T042125
CREATED:20240729T141111Z
LAST-MODIFIED:20240801T102432Z
UID:10000452-1724245200-1724263200@site.fo.usp.br
SUMMARY:Dissertação de Mestrado de Marcos Hideki Hagy
DESCRIPTION:
URL:https://site.fo.usp.br/evento/dissertacao-de-mestrado-de-marcos-hideki-hagy-2/
CATEGORIES:Defesa de Tese
ATTACH;FMTTYPE=image/jpeg:https://site.fo.usp.br/wp-content/uploads/2024/07/Tese-FEED-1.jpg
END:VEVENT
BEGIN:VEVENT
DTSTART;TZID=America/Sao_Paulo:20240822T080000
DTEND;TZID=America/Sao_Paulo:20240822T170000
DTSTAMP:20260424T042125
CREATED:20240429T144516Z
LAST-MODIFIED:20240429T144530Z
UID:10000409-1724313600-1724346000@site.fo.usp.br
SUMMARY:1º Encontro de Pós Graduação dos cursos de Odontologia da USP
DESCRIPTION:Mais informações: @posgradfobusp | posgrad@fob.usp.br | (14) 3235-8223
URL:https://site.fo.usp.br/evento/1o-encontro-de-pos-graduacao-dos-cursos-de-odontologia-da-usp/
CATEGORIES:Encontro
ATTACH;FMTTYPE=image/png:https://site.fo.usp.br/wp-content/uploads/2024/04/svd.png
END:VEVENT
BEGIN:VEVENT
DTSTART;TZID=America/Sao_Paulo:20240822T090000
DTEND;TZID=America/Sao_Paulo:20240822T123000
DTSTAMP:20260424T042125
CREATED:20240614T191050Z
LAST-MODIFIED:20240614T191059Z
UID:10000434-1724317200-1724329800@site.fo.usp.br
SUMMARY:Dissertação de Mestrado de Stefano Pieralli
DESCRIPTION:
URL:https://site.fo.usp.br/evento/dissertacao-de-mestrado-de-stefano-pieralli/
CATEGORIES:Defesa de Tese
ATTACH;FMTTYPE=image/jpeg:https://site.fo.usp.br/wp-content/uploads/2024/06/Imagem-do-WhatsApp-de-2024-06-14-as-16.00.30_aa21ea21.jpg
END:VEVENT
END:VCALENDAR