BEGIN:VCALENDAR
VERSION:2.0
PRODID:-//FOUSP - ECPv6.15.20//NONSGML v1.0//EN
CALSCALE:GREGORIAN
METHOD:PUBLISH
X-WR-CALNAME:FOUSP
X-ORIGINAL-URL:https://site.fo.usp.br
X-WR-CALDESC:Eventos para FOUSP
REFRESH-INTERVAL;VALUE=DURATION:PT1H
X-Robots-Tag:noindex
X-PUBLISHED-TTL:PT1H
BEGIN:VTIMEZONE
TZID:America/Sao_Paulo
BEGIN:STANDARD
TZOFFSETFROM:-0300
TZOFFSETTO:-0300
TZNAME:-03
DTSTART:20230101T000000
END:STANDARD
END:VTIMEZONE
BEGIN:VEVENT
DTSTART;TZID=America/Sao_Paulo:20241202T080000
DTEND;TZID=America/Sao_Paulo:20241206T170000
DTSTAMP:20260424T115033
CREATED:20240925T160251Z
LAST-MODIFIED:20240925T160259Z
UID:10000494-1733126400-1733504400@site.fo.usp.br
SUMMARY:Concurso para Professor Doutor do ODO\, área de conhecimento em Odontopediatria
DESCRIPTION:
URL:https://site.fo.usp.br/evento/concurso-para-professor-doutor-do-odo-area-de-conhecimento-em-odontopediatria/
ATTACH;FMTTYPE=image/jpeg:https://site.fo.usp.br/wp-content/uploads/2024/09/1-1.jpg
END:VEVENT
BEGIN:VEVENT
DTSTART;TZID=America/Sao_Paulo:20241202T090000
DTEND;TZID=America/Sao_Paulo:20241202T140000
DTSTAMP:20260424T115033
CREATED:20241119T145442Z
LAST-MODIFIED:20241119T145449Z
UID:10000531-1733130000-1733148000@site.fo.usp.br
SUMMARY:Dissertação de Mestrado de Cristina Freire Weffort
DESCRIPTION:
URL:https://site.fo.usp.br/evento/dissertacao-de-mestrado-de-cristina-freire-weffort/
CATEGORIES:Defesa de Tese
ATTACH;FMTTYPE=image/png:https://site.fo.usp.br/wp-content/uploads/2024/11/Tese-FEED-38.png
END:VEVENT
BEGIN:VEVENT
DTSTART;TZID=America/Sao_Paulo:20241203T090000
DTEND;TZID=America/Sao_Paulo:20241203T120000
DTSTAMP:20260424T115033
CREATED:20240110T162306Z
LAST-MODIFIED:20240208T130005Z
UID:10000309-1733216400-1733227200@site.fo.usp.br
SUMMARY:Reunião do Comitê de Ética em Pesquisa – CEP-FOUSP
DESCRIPTION:
URL:https://site.fo.usp.br/evento/reuniao-do-comite-de-etica-em-pesquisa-cep-fousp/2024-12-03/
END:VEVENT
BEGIN:VEVENT
DTSTART;TZID=America/Sao_Paulo:20241203T143000
DTEND;TZID=America/Sao_Paulo:20241203T163000
DTSTAMP:20260424T115033
CREATED:20240903T131253Z
LAST-MODIFIED:20240903T131258Z
UID:10000484-1733236200-1733243400@site.fo.usp.br
SUMMARY:Reunião da Comissão de Pesquisa
DESCRIPTION:
URL:https://site.fo.usp.br/evento/reuniao-da-comissao-de-pesquisa-5/
CATEGORIES:Comissão de Pesquisa,Reunião
END:VEVENT
BEGIN:VEVENT
DTSTART;TZID=America/Sao_Paulo:20241204T110000
DTEND;TZID=America/Sao_Paulo:20241204T120000
DTSTAMP:20260424T115033
CREATED:20240326T125853Z
LAST-MODIFIED:20240326T131239Z
UID:10000340-1733310000-1733313600@site.fo.usp.br
SUMMARY:Reunião da Comissão Coordenadora do Programa de Ciências Odontológicas
DESCRIPTION:
URL:https://site.fo.usp.br/evento/reuniao-da-comissao-coordenadora-do-programa-de-ciencias-odontologicas-2/2024-12-04/
CATEGORIES:Reunião
END:VEVENT
BEGIN:VEVENT
DTSTART;TZID=America/Sao_Paulo:20241204T120000
DTEND;TZID=America/Sao_Paulo:20241204T130000
DTSTAMP:20260424T115033
CREATED:20241129T142514Z
LAST-MODIFIED:20241129T145718Z
UID:10000544-1733313600-1733317200@site.fo.usp.br
SUMMARY:O efeito das mídias sociais
DESCRIPTION:
URL:https://site.fo.usp.br/evento/o-efeito-das-midias-sociais/
CATEGORIES:Palestra
ATTACH;FMTTYPE=image/png:https://site.fo.usp.br/wp-content/uploads/2024/11/Copia-de-2025-Eventos-Feed-2.png
END:VEVENT
BEGIN:VEVENT
DTSTART;TZID=America/Sao_Paulo:20241205T090000
DTEND;TZID=America/Sao_Paulo:20241205T120000
DTSTAMP:20260424T115033
CREATED:20231113T125744Z
LAST-MODIFIED:20231113T125749Z
UID:10000261-1733389200-1733400000@site.fo.usp.br
SUMMARY:Reunião da Congregação
DESCRIPTION:
URL:https://site.fo.usp.br/evento/reuniao-da-congregacao/2024-12-05/
CATEGORIES:Congregação
END:VEVENT
BEGIN:VEVENT
DTSTART;TZID=America/Sao_Paulo:20241206T083000
DTEND;TZID=America/Sao_Paulo:20241206T133000
DTSTAMP:20260424T115033
CREATED:20241127T135519Z
LAST-MODIFIED:20241127T135526Z
UID:10000541-1733473800-1733491800@site.fo.usp.br
SUMMARY:Dissertação de Mestrado de Livia Goron Bergamin
DESCRIPTION:
URL:https://site.fo.usp.br/evento/dissertacao-de-mestrado-de-livia-goron-bergamin/
CATEGORIES:Defesa de Tese
ATTACH;FMTTYPE=image/jpeg:https://site.fo.usp.br/wp-content/uploads/2024/11/6.jpg
END:VEVENT
BEGIN:VEVENT
DTSTART;TZID=America/Sao_Paulo:20241206T090000
DTEND;TZID=America/Sao_Paulo:20241206T110000
DTSTAMP:20260424T115033
CREATED:20240220T103324Z
LAST-MODIFIED:20240220T103334Z
UID:10000355-1733475600-1733482800@site.fo.usp.br
SUMMARY:Reunião CCExFO
DESCRIPTION:
URL:https://site.fo.usp.br/evento/reuniao-ccexfo/2024-12-06/
CATEGORIES:Reunião
END:VEVENT
BEGIN:VEVENT
DTSTART;TZID=America/Sao_Paulo:20241206T090000
DTEND;TZID=America/Sao_Paulo:20241206T140000
DTSTAMP:20260424T115033
CREATED:20241021T152300Z
LAST-MODIFIED:20241021T152306Z
UID:10000520-1733475600-1733493600@site.fo.usp.br
SUMMARY:Dissertação de Mestrado de Cesar Barros de Albuquerque
DESCRIPTION:
URL:https://site.fo.usp.br/evento/dissertacao-de-mestrado-de-cesar-barros-de-albuquerque/
CATEGORIES:Defesa de Tese
ATTACH;FMTTYPE=image/png:https://site.fo.usp.br/wp-content/uploads/2024/10/Tese-FEED-35.png
END:VEVENT
BEGIN:VEVENT
DTSTART;TZID=America/Sao_Paulo:20241207T130000
DTEND;TZID=America/Sao_Paulo:20241207T170000
DTSTAMP:20260424T115033
CREATED:20241114T162401Z
LAST-MODIFIED:20241114T162417Z
UID:10000528-1733576400-1733590800@site.fo.usp.br
SUMMARY:Imersão LIESTO: a Odontologia estética atual
DESCRIPTION:
URL:https://site.fo.usp.br/evento/imersao-liesto-a-odontologia-estetica-atual/
CATEGORIES:Aula Aberta
ATTACH;FMTTYPE=image/jpeg:https://site.fo.usp.br/wp-content/uploads/2024/11/Imersa_o-Liesto.pdf-scaled.jpg
END:VEVENT
END:VCALENDAR