BEGIN:VCALENDAR
VERSION:2.0
PRODID:-//FOUSP - ECPv6.15.20//NONSGML v1.0//EN
CALSCALE:GREGORIAN
METHOD:PUBLISH
X-WR-CALNAME:FOUSP
X-ORIGINAL-URL:https://site.fo.usp.br
X-WR-CALDESC:Eventos para FOUSP
REFRESH-INTERVAL;VALUE=DURATION:PT1H
X-Robots-Tag:noindex
X-PUBLISHED-TTL:PT1H
BEGIN:VTIMEZONE
TZID:America/Sao_Paulo
BEGIN:STANDARD
TZOFFSETFROM:-0300
TZOFFSETTO:-0300
TZNAME:-03
DTSTART:20240101T000000
END:STANDARD
END:VTIMEZONE
BEGIN:VEVENT
DTSTART;TZID=America/Sao_Paulo:20250318T140000
DTEND;TZID=America/Sao_Paulo:20250318T190000
DTSTAMP:20260424T082209
CREATED:20250218T151909Z
LAST-MODIFIED:20250218T151915Z
UID:10000608-1742306400-1742324400@site.fo.usp.br
SUMMARY:Dissertação de Mestrado de Isabela de Moraes Spigariol
DESCRIPTION:
URL:https://site.fo.usp.br/evento/dissertacao-de-mestrado-de-isabela-de-moraes-spigariol/
CATEGORIES:Defesa de Tese
ATTACH;FMTTYPE=image/png:https://site.fo.usp.br/wp-content/uploads/2025/02/2025-Teses-Feed-14.png
END:VEVENT
BEGIN:VEVENT
DTSTART;TZID=America/Sao_Paulo:20250318T140000
DTEND;TZID=America/Sao_Paulo:20250318T190000
DTSTAMP:20260424T082209
CREATED:20250226T170247Z
LAST-MODIFIED:20250226T170254Z
UID:10000615-1742306400-1742324400@site.fo.usp.br
SUMMARY:Tese de Doutorado de Andresa Ferreira Gonçalves
DESCRIPTION:
URL:https://site.fo.usp.br/evento/tese-de-doutorado-de-andresa-ferreira-goncalves/
CATEGORIES:Defesa de Tese
ATTACH;FMTTYPE=image/jpeg:https://site.fo.usp.br/wp-content/uploads/2025/02/feed-andresa.jpg
END:VEVENT
BEGIN:VEVENT
DTSTART;TZID=America/Sao_Paulo:20250319T140000
DTEND;TZID=America/Sao_Paulo:20250319T190000
DTSTAMP:20260424T082209
CREATED:20250218T154347Z
LAST-MODIFIED:20250218T154353Z
UID:10000611-1742392800-1742410800@site.fo.usp.br
SUMMARY:Dissertação de Mestrado de Mauricio Carlos do Val
DESCRIPTION:
URL:https://site.fo.usp.br/evento/dissertacao-de-mestrado-de-mauricio-carlos-do-val/
CATEGORIES:Defesa de Tese
ATTACH;FMTTYPE=image/png:https://site.fo.usp.br/wp-content/uploads/2025/02/2025-Teses-Feed-17.png
END:VEVENT
BEGIN:VEVENT
DTSTART;TZID=America/Sao_Paulo:20250320T140000
DTEND;TZID=America/Sao_Paulo:20250320T190000
DTSTAMP:20260424T082209
CREATED:20250306T220910Z
LAST-MODIFIED:20250306T220922Z
UID:10000617-1742479200-1742497200@site.fo.usp.br
SUMMARY:Dissertação de Mestrado de Alessandra Matheus Domingos
DESCRIPTION:
URL:https://site.fo.usp.br/evento/dissertacao-de-mestrado-de-alessandra-matheus-domingos/
CATEGORIES:Defesa de Tese
ATTACH;FMTTYPE=image/png:https://site.fo.usp.br/wp-content/uploads/2025/03/2025-Teses-Feed-21.png
END:VEVENT
END:VCALENDAR