BEGIN:VCALENDAR
VERSION:2.0
PRODID:-//FOUSP - ECPv6.15.20//NONSGML v1.0//EN
CALSCALE:GREGORIAN
METHOD:PUBLISH
X-WR-CALNAME:FOUSP
X-ORIGINAL-URL:https://site.fo.usp.br
X-WR-CALDESC:Eventos para FOUSP
REFRESH-INTERVAL;VALUE=DURATION:PT1H
X-Robots-Tag:noindex
X-PUBLISHED-TTL:PT1H
BEGIN:VTIMEZONE
TZID:America/Sao_Paulo
BEGIN:STANDARD
TZOFFSETFROM:-0300
TZOFFSETTO:-0300
TZNAME:-03
DTSTART:20240101T000000
END:STANDARD
END:VTIMEZONE
BEGIN:VEVENT
DTSTART;TZID=America/Sao_Paulo:20250324T140000
DTEND;TZID=America/Sao_Paulo:20250324T190000
DTSTAMP:20260425T160953
CREATED:20250218T155322Z
LAST-MODIFIED:20250218T155328Z
UID:10000612-1742824800-1742842800@site.fo.usp.br
SUMMARY:Tese de Doutorado de Catharina Simioni De Rosa
DESCRIPTION:
URL:https://site.fo.usp.br/evento/tese-de-doutorado-de-catharina-simioni-de-rosa/
CATEGORIES:Defesa de Tese
ATTACH;FMTTYPE=image/png:https://site.fo.usp.br/wp-content/uploads/2025/02/2025-Teses-Feed-18.png
END:VEVENT
BEGIN:VEVENT
DTSTART;TZID=America/Sao_Paulo:20250326T140000
DTEND;TZID=America/Sao_Paulo:20250326T190000
DTSTAMP:20260425T160953
CREATED:20250218T152242Z
LAST-MODIFIED:20250218T152248Z
UID:10000609-1742997600-1743015600@site.fo.usp.br
SUMMARY:Dissertação de Mestrado de Lucas Monteiro Pereira
DESCRIPTION:
URL:https://site.fo.usp.br/evento/dissertacao-de-mestrado-de-lucas-monteiro-pereira/
CATEGORIES:Defesa de Tese
ATTACH;FMTTYPE=image/png:https://site.fo.usp.br/wp-content/uploads/2025/02/2025-Teses-Feed-15.png
END:VEVENT
BEGIN:VEVENT
DTSTART;TZID=America/Sao_Paulo:20250328T090000
DTEND;TZID=America/Sao_Paulo:20250328T140000
DTSTAMP:20260425T160953
CREATED:20250218T154028Z
LAST-MODIFIED:20250218T154034Z
UID:10000610-1743152400-1743170400@site.fo.usp.br
SUMMARY:Dissertação de Mestrado de Daniela Mita
DESCRIPTION:
URL:https://site.fo.usp.br/evento/dissertacao-de-mestrado-de-daniela-mita/
CATEGORIES:Defesa de Tese
ATTACH;FMTTYPE=image/png:https://site.fo.usp.br/wp-content/uploads/2025/02/2025-Teses-Feed-16.png
END:VEVENT
END:VCALENDAR