BEGIN:VCALENDAR
VERSION:2.0
PRODID:-//FOUSP - ECPv6.15.20//NONSGML v1.0//EN
CALSCALE:GREGORIAN
METHOD:PUBLISH
X-WR-CALNAME:FOUSP
X-ORIGINAL-URL:https://site.fo.usp.br
X-WR-CALDESC:Eventos para FOUSP
REFRESH-INTERVAL;VALUE=DURATION:PT1H
X-Robots-Tag:noindex
X-PUBLISHED-TTL:PT1H
BEGIN:VTIMEZONE
TZID:America/Sao_Paulo
BEGIN:STANDARD
TZOFFSETFROM:-0300
TZOFFSETTO:-0300
TZNAME:-03
DTSTART:20240101T000000
END:STANDARD
END:VTIMEZONE
BEGIN:VEVENT
DTSTART;TZID=America/Sao_Paulo:20250603T090000
DTEND;TZID=America/Sao_Paulo:20250603T120000
DTSTAMP:20260423T102046
CREATED:20250506T115230Z
LAST-MODIFIED:20250506T115301Z
UID:10000653-1748941200-1748952000@site.fo.usp.br
SUMMARY:Reunião do CEP
DESCRIPTION:
URL:https://site.fo.usp.br/evento/reuniao-do-cep-3/
CATEGORIES:Comitê de Ética em Pesquisa
END:VEVENT
END:VCALENDAR