BEGIN:VCALENDAR
VERSION:2.0
PRODID:-//FOUSP - ECPv6.15.20//NONSGML v1.0//EN
CALSCALE:GREGORIAN
METHOD:PUBLISH
X-WR-CALNAME:FOUSP
X-ORIGINAL-URL:https://site.fo.usp.br
X-WR-CALDESC:Eventos para FOUSP
REFRESH-INTERVAL;VALUE=DURATION:PT1H
X-Robots-Tag:noindex
X-PUBLISHED-TTL:PT1H
BEGIN:VTIMEZONE
TZID:America/Sao_Paulo
BEGIN:STANDARD
TZOFFSETFROM:-0300
TZOFFSETTO:-0300
TZNAME:-03
DTSTART:20240101T000000
END:STANDARD
END:VTIMEZONE
BEGIN:VEVENT
DTSTART;TZID=America/Sao_Paulo:20250701T090000
DTEND;TZID=America/Sao_Paulo:20250701T120000
DTSTAMP:20260423T162043
CREATED:20250506T115249Z
LAST-MODIFIED:20250506T115304Z
UID:10000654-1751360400-1751371200@site.fo.usp.br
SUMMARY:Reunião do CEP
DESCRIPTION:
URL:https://site.fo.usp.br/evento/reuniao-do-cep-4/
CATEGORIES:Comitê de Ética em Pesquisa
END:VEVENT
BEGIN:VEVENT
DTSTART;TZID=America/Sao_Paulo:20250704T090000
DTEND;TZID=America/Sao_Paulo:20250704T130000
DTSTAMP:20260423T162043
CREATED:20250624T140005Z
LAST-MODIFIED:20250624T140014Z
UID:10000680-1751619600-1751634000@site.fo.usp.br
SUMMARY:Tese de Doutorado de Giovanna Sarra
DESCRIPTION:
URL:https://site.fo.usp.br/evento/tese-de-doutorado-de-giovanna-sarra/
CATEGORIES:Defesa de Tese
ATTACH;FMTTYPE=image/jpeg:https://site.fo.usp.br/wp-content/uploads/2025/06/6-1.jpg
END:VEVENT
END:VCALENDAR