BEGIN:VCALENDAR
VERSION:2.0
PRODID:-//FOUSP - ECPv6.15.20//NONSGML v1.0//EN
CALSCALE:GREGORIAN
METHOD:PUBLISH
X-WR-CALNAME:FOUSP
X-ORIGINAL-URL:https://site.fo.usp.br
X-WR-CALDESC:Eventos para FOUSP
REFRESH-INTERVAL;VALUE=DURATION:PT1H
X-Robots-Tag:noindex
X-PUBLISHED-TTL:PT1H
BEGIN:VTIMEZONE
TZID:America/Sao_Paulo
BEGIN:STANDARD
TZOFFSETFROM:-0300
TZOFFSETTO:-0300
TZNAME:-03
DTSTART:20240101T000000
END:STANDARD
END:VTIMEZONE
BEGIN:VEVENT
DTSTART;TZID=America/Sao_Paulo:20250820T090000
DTEND;TZID=America/Sao_Paulo:20250820T170000
DTSTAMP:20260424T033444
CREATED:20250721T100504Z
LAST-MODIFIED:20250721T100514Z
UID:10000682-1755680400-1755709200@site.fo.usp.br
SUMMARY:Oficina de autoconhecimento e relacionamento interpessoal por meio da comunicação não violenta
DESCRIPTION:
URL:https://site.fo.usp.br/evento/oficina-de-autoconhecimento-e-relacionamento-interpessoal-por-meio-da-comunicacao-nao-violenta/
CATEGORIES:Palestra
ATTACH;FMTTYPE=image/png:https://site.fo.usp.br/wp-content/uploads/2025/07/1.png
END:VEVENT
BEGIN:VEVENT
DTSTART;TZID=America/Sao_Paulo:20250822T080000
DTEND;TZID=America/Sao_Paulo:20250822T130000
DTSTAMP:20260424T033444
CREATED:20250624T141116Z
LAST-MODIFIED:20250624T141120Z
UID:10000677-1755849600-1755867600@site.fo.usp.br
SUMMARY:Dissertação de Mestrado de Nataly Harumi de Morais Takano
DESCRIPTION:
URL:https://site.fo.usp.br/evento/dissertacao-de-mestrado-de-nataly-harumi-de-morais-takano/
CATEGORIES:Defesa de Tese
ATTACH;FMTTYPE=image/jpeg:https://site.fo.usp.br/wp-content/uploads/2025/06/3-1.jpg
END:VEVENT
BEGIN:VEVENT
DTSTART;TZID=America/Sao_Paulo:20250822T090000
DTEND;TZID=America/Sao_Paulo:20250822T130000
DTSTAMP:20260424T033444
CREATED:20250624T141304Z
LAST-MODIFIED:20250624T141310Z
UID:10000679-1755853200-1755867600@site.fo.usp.br
SUMMARY:Tese de Doutorado Direto de Ana Paula Ayres Pinheiro de Lima
DESCRIPTION:
URL:https://site.fo.usp.br/evento/tese-de-doutorado-direto-de-ana-paula-ayres-pinheiro-de-lima/
CATEGORIES:Defesa de Tese
ATTACH;FMTTYPE=image/jpeg:https://site.fo.usp.br/wp-content/uploads/2025/06/1-2.jpg
END:VEVENT
BEGIN:VEVENT
DTSTART;TZID=America/Sao_Paulo:20250823T100000
DTEND;TZID=America/Sao_Paulo:20250823T120000
DTSTAMP:20260424T033444
CREATED:20250806T130145Z
LAST-MODIFIED:20250806T130311Z
UID:10000688-1755943200-1755950400@site.fo.usp.br
SUMMARY:Odontonaremo - 3ª Edição
DESCRIPTION:No dia 23 de agosto\, das 10h às 12h\, na sede dos Moradores da Comunidade São Remo. será realizada a terceira edição do projeto ODONTONAREMO\, uma ação complementar ao Projeto Experimentando Ciência. \n\n\n\nDesde 2016\, o Experimentando Ciência tem promovido oficinas interativas nos laboratórios da FOUSP\, com o objetivo de aproximar estudantes da rede pública da ciência e da promoção da saúde bucal. \n\n\n\nAtravés dessa iniciativa\, alunos do ensino fundamental e médio da EMEF Gal. Euclydes de Oliveira Figueiredo participam de atividades práticas na FOUSP e\, posteriormente\, compartilham o conhecimento adquirido com a comunidade. \n\n\n\nNo ODONTONAREMO\, esses estudantes atuam como protagonistas: com o apoio de alunos de Iniciação Científica e Pós-graduação da FOUSP\, eles apresentam experimentos e explicações sobre saúde bucal aos moradores da São Remo. A atividade contará com a presença de professores que coordenam os laboratórios envolvidos e será organizada em oito estações de trabalho\, abordando temas diversos ligados à ciência e à saúde. \n\n\n\nNeste ano\, o projeto ganha ainda mais força com a participação de alunos da EMEF que estão realizando pré-iniciação científica em laboratórios da FOUSP. \n\n\n\nO evento é aberto a todos os discentes\, docentes e servidores da FOUSP que queiram conhecer e prestigiar essa importante ação de extensão e integração com a comunidade.
URL:https://site.fo.usp.br/evento/103149/
ATTACH;FMTTYPE=image/png:https://site.fo.usp.br/wp-content/uploads/2025/08/odonto-na-remo.png
END:VEVENT
END:VCALENDAR