BEGIN:VCALENDAR
VERSION:2.0
PRODID:-//FOUSP - ECPv6.15.20//NONSGML v1.0//EN
CALSCALE:GREGORIAN
METHOD:PUBLISH
X-WR-CALNAME:FOUSP
X-ORIGINAL-URL:https://site.fo.usp.br
X-WR-CALDESC:Eventos para FOUSP
REFRESH-INTERVAL;VALUE=DURATION:PT1H
X-Robots-Tag:noindex
X-PUBLISHED-TTL:PT1H
BEGIN:VTIMEZONE
TZID:America/Sao_Paulo
BEGIN:STANDARD
TZOFFSETFROM:-0300
TZOFFSETTO:-0300
TZNAME:-03
DTSTART:20240101T000000
END:STANDARD
END:VTIMEZONE
BEGIN:VEVENT
DTSTART;TZID=America/Sao_Paulo:20251020T140000
DTEND;TZID=America/Sao_Paulo:20251020T190000
DTSTAMP:20260425T125647
CREATED:20250912T221609Z
LAST-MODIFIED:20250912T221619Z
UID:10000711-1760968800-1760986800@site.fo.usp.br
SUMMARY:Dissertação de Mestrado de Gabriel Bittencourt Damin
DESCRIPTION:
URL:https://site.fo.usp.br/evento/dissertacao-de-mestrado-de-gabriel-bittencourt-damin/
CATEGORIES:Defesa de Tese
ATTACH;FMTTYPE=image/png:https://site.fo.usp.br/wp-content/uploads/2025/09/2025-Teses-Site-e-FEED-26.png
END:VEVENT
BEGIN:VEVENT
DTSTART;TZID=America/Sao_Paulo:20251021T080000
DTEND;TZID=America/Sao_Paulo:20251025T170000
DTSTAMP:20260425T125647
CREATED:20250902T161757Z
LAST-MODIFIED:20251021T101320Z
UID:10000708-1761033600-1761411600@site.fo.usp.br
SUMMARY:27ª Semana de Arte e Cultura
DESCRIPTION:
URL:https://site.fo.usp.br/evento/27a-semana-de-arte-e-cultura/
ATTACH;FMTTYPE=image/png:https://site.fo.usp.br/wp-content/uploads/2025/09/Feed-e-site-semana-de-arte-2.png
END:VEVENT
BEGIN:VEVENT
DTSTART;TZID=America/Sao_Paulo:20251021T090000
DTEND;TZID=America/Sao_Paulo:20251021T140000
DTSTAMP:20260425T125647
CREATED:20250820T144031Z
LAST-MODIFIED:20250820T144038Z
UID:10000704-1761037200-1761055200@site.fo.usp.br
SUMMARY:Tese de Doutorado de Hian Nivaldo Parize
DESCRIPTION:
URL:https://site.fo.usp.br/evento/tese-de-doutorado-de-hian-nivaldo-parize/
CATEGORIES:Defesa de Tese
ATTACH;FMTTYPE=image/png:https://site.fo.usp.br/wp-content/uploads/2025/08/2025-Teses-Site-e-FEED-21.png
END:VEVENT
BEGIN:VEVENT
DTSTART;TZID=America/Sao_Paulo:20251022T090000
DTEND;TZID=America/Sao_Paulo:20251022T140000
DTSTAMP:20260425T125647
CREATED:20250820T143729Z
LAST-MODIFIED:20250820T143736Z
UID:10000703-1761123600-1761141600@site.fo.usp.br
SUMMARY:Tese de Doutorado de Rodolfo de Carvalho Oliveira
DESCRIPTION:
URL:https://site.fo.usp.br/evento/tese-de-doutorado-de-rodolfo-de-carvalho-oliveira/
CATEGORIES:Defesa de Tese
ATTACH;FMTTYPE=image/png:https://site.fo.usp.br/wp-content/uploads/2025/08/2025-Teses-Site-e-FEED-20.png
END:VEVENT
BEGIN:VEVENT
DTSTART;TZID=America/Sao_Paulo:20251024T140000
DTEND;TZID=America/Sao_Paulo:20251024T190000
DTSTAMP:20260425T125647
CREATED:20250820T143417Z
LAST-MODIFIED:20250820T143425Z
UID:10000702-1761314400-1761332400@site.fo.usp.br
SUMMARY:Tese de Doutorado de João Pedro Perez Gomes
DESCRIPTION:
URL:https://site.fo.usp.br/evento/tese-de-doutorado-de-joao-pedro-perez-gomes/
CATEGORIES:Defesa de Tese
ATTACH;FMTTYPE=image/png:https://site.fo.usp.br/wp-content/uploads/2025/08/2025-Teses-Site-e-FEED-19.png
END:VEVENT
END:VCALENDAR