BEGIN:VCALENDAR
VERSION:2.0
PRODID:-//FOUSP - ECPv6.15.20//NONSGML v1.0//EN
CALSCALE:GREGORIAN
METHOD:PUBLISH
X-WR-CALNAME:FOUSP
X-ORIGINAL-URL:https://site.fo.usp.br
X-WR-CALDESC:Eventos para FOUSP
REFRESH-INTERVAL;VALUE=DURATION:PT1H
X-Robots-Tag:noindex
X-PUBLISHED-TTL:PT1H
BEGIN:VTIMEZONE
TZID:America/Sao_Paulo
BEGIN:STANDARD
TZOFFSETFROM:-0300
TZOFFSETTO:-0300
TZNAME:-03
DTSTART:20250101T000000
END:STANDARD
END:VTIMEZONE
BEGIN:VEVENT
DTSTART;TZID=America/Sao_Paulo:20260116T100000
DTEND;TZID=America/Sao_Paulo:20260116T100000
DTSTAMP:20260424T011921
CREATED:20251219T171427Z
LAST-MODIFIED:20251219T171431Z
UID:10000781-1768557600-1768557600@site.fo.usp.br
SUMMARY:Tese de Doutorado de Rebeca Cardoso Pedra
DESCRIPTION:
URL:https://site.fo.usp.br/evento/tese-de-doutorado-de-rebeca-cardoso-pedra/
CATEGORIES:Defesa de Tese
ATTACH;FMTTYPE=image/png:https://site.fo.usp.br/wp-content/uploads/2025/12/20.png
END:VEVENT
END:VCALENDAR