BEGIN:VCALENDAR
VERSION:2.0
PRODID:-//FOUSP - ECPv6.15.20//NONSGML v1.0//EN
CALSCALE:GREGORIAN
METHOD:PUBLISH
X-WR-CALNAME:FOUSP
X-ORIGINAL-URL:https://site.fo.usp.br
X-WR-CALDESC:Eventos para FOUSP
REFRESH-INTERVAL;VALUE=DURATION:PT1H
X-Robots-Tag:noindex
X-PUBLISHED-TTL:PT1H
BEGIN:VTIMEZONE
TZID:America/Sao_Paulo
BEGIN:STANDARD
TZOFFSETFROM:-0300
TZOFFSETTO:-0300
TZNAME:-03
DTSTART:20250101T000000
END:STANDARD
END:VTIMEZONE
BEGIN:VEVENT
DTSTART;TZID=America/Sao_Paulo:20260121T140000
DTEND;TZID=America/Sao_Paulo:20260121T140000
DTSTAMP:20260424T215243
CREATED:20251219T171216Z
LAST-MODIFIED:20251219T171218Z
UID:10000779-1769004000-1769004000@site.fo.usp.br
SUMMARY:Tese de Doutorado de Marcelo Ramos Pinto
DESCRIPTION:
URL:https://site.fo.usp.br/evento/tese-de-doutorado-de-marcelo-ramos-pinto/
CATEGORIES:Defesa de Tese
ATTACH;FMTTYPE=image/png:https://site.fo.usp.br/wp-content/uploads/2025/12/16.png
END:VEVENT
BEGIN:VEVENT
DTSTART;TZID=America/Sao_Paulo:20260122T100000
DTEND;TZID=America/Sao_Paulo:20260122T100000
DTSTAMP:20260424T215243
CREATED:20251219T171317Z
LAST-MODIFIED:20251219T171319Z
UID:10000780-1769076000-1769076000@site.fo.usp.br
SUMMARY:Tese de Doutorado de Diana Estefanía Ramos Peña
DESCRIPTION:
URL:https://site.fo.usp.br/evento/tese-de-doutorado-de-diana-estefania-ramos-pena/
CATEGORIES:Defesa de Tese
ATTACH;FMTTYPE=image/png:https://site.fo.usp.br/wp-content/uploads/2025/12/18.png
END:VEVENT
END:VCALENDAR