BEGIN:VCALENDAR
VERSION:2.0
PRODID:-//FOUSP - ECPv6.15.20//NONSGML v1.0//EN
CALSCALE:GREGORIAN
METHOD:PUBLISH
X-WR-CALNAME:FOUSP
X-ORIGINAL-URL:https://site.fo.usp.br
X-WR-CALDESC:Eventos para FOUSP
REFRESH-INTERVAL;VALUE=DURATION:PT1H
X-Robots-Tag:noindex
X-PUBLISHED-TTL:PT1H
BEGIN:VTIMEZONE
TZID:America/Sao_Paulo
BEGIN:STANDARD
TZOFFSETFROM:-0300
TZOFFSETTO:-0300
TZNAME:-03
DTSTART:20250101T000000
END:STANDARD
END:VTIMEZONE
BEGIN:VEVENT
DTSTART;TZID=America/Sao_Paulo:20260203T090000
DTEND;TZID=America/Sao_Paulo:20260203T120000
DTSTAMP:20260425T214325
CREATED:20251203T181623Z
LAST-MODIFIED:20251203T183758Z
UID:10000744-1770109200-1770120000@site.fo.usp.br
SUMMARY:Reunião do Comitê de Ética em Pesquisa
DESCRIPTION:
URL:https://site.fo.usp.br/evento/reuniao-do-comite-de-etica-em-pesquisa-2-2/
CATEGORIES:Comitê de Ética em Pesquisa
END:VEVENT
BEGIN:VEVENT
DTSTART;TZID=America/Sao_Paulo:20260205T140000
DTEND;TZID=America/Sao_Paulo:20260205T140000
DTSTAMP:20260425T214325
CREATED:20251219T171016Z
LAST-MODIFIED:20251219T171019Z
UID:10000777-1770300000-1770300000@site.fo.usp.br
SUMMARY:Dissertação de Mestrado de Marcelo Silva de Sousa
DESCRIPTION:
URL:https://site.fo.usp.br/evento/dissertacao-de-mestrado-de-marcelo-silva-de-sousa/
CATEGORIES:Defesa de Tese
ATTACH;FMTTYPE=image/png:https://site.fo.usp.br/wp-content/uploads/2025/12/12.png
END:VEVENT
BEGIN:VEVENT
DTSTART;TZID=America/Sao_Paulo:20260206T083000
DTEND;TZID=America/Sao_Paulo:20260206T083000
DTSTAMP:20260425T214325
CREATED:20260122T135029Z
LAST-MODIFIED:20260126T174011Z
UID:10000792-1770366600-1770366600@site.fo.usp.br
SUMMARY:Dissertação de Mestrado de Jessica Barbar Przybysz Gaede
DESCRIPTION:
URL:https://site.fo.usp.br/evento/dissertacao-de-mestrado-de-jessica-barbar-przybysz-gaede/
CATEGORIES:Defesa de Tese
ATTACH;FMTTYPE=image/jpeg:https://site.fo.usp.br/wp-content/uploads/2026/01/2.jpg
END:VEVENT
END:VCALENDAR