BEGIN:VCALENDAR
VERSION:2.0
PRODID:-//FOUSP - ECPv6.15.20//NONSGML v1.0//EN
CALSCALE:GREGORIAN
METHOD:PUBLISH
X-WR-CALNAME:FOUSP
X-ORIGINAL-URL:https://site.fo.usp.br
X-WR-CALDESC:Eventos para FOUSP
REFRESH-INTERVAL;VALUE=DURATION:PT1H
X-Robots-Tag:noindex
X-PUBLISHED-TTL:PT1H
BEGIN:VTIMEZONE
TZID:America/Sao_Paulo
BEGIN:STANDARD
TZOFFSETFROM:-0300
TZOFFSETTO:-0300
TZNAME:-03
DTSTART:20250101T000000
END:STANDARD
END:VTIMEZONE
BEGIN:VEVENT
DTSTART;TZID=America/Sao_Paulo:20260316T140000
DTEND;TZID=America/Sao_Paulo:20260316T190000
DTSTAMP:20260425T132007
CREATED:20260305T192831Z
LAST-MODIFIED:20260305T192833Z
UID:10000811-1773669600-1773687600@site.fo.usp.br
SUMMARY:Tese de Doutorado de Raíssa Manoel Garcia
DESCRIPTION:
URL:https://site.fo.usp.br/evento/tese-de-doutorado-de-raissa-manoel-garcia/
CATEGORIES:Defesa de Tese
ATTACH;FMTTYPE=image/png:https://site.fo.usp.br/wp-content/uploads/2026/03/Lote-1-TV-Defesa-de-Teses-2026-Mala-Direta-7.png
END:VEVENT
BEGIN:VEVENT
DTSTART;TZID=America/Sao_Paulo:20260318T120000
DTEND;TZID=America/Sao_Paulo:20260318T133000
DTSTAMP:20260425T132007
CREATED:20260312T162430Z
LAST-MODIFIED:20260312T162433Z
UID:10000814-1773835200-1773840600@site.fo.usp.br
SUMMARY:Clube do Livro
DESCRIPTION:O Clube do Livro convida a todos para o primeiro encontro do ano que ocorrerá no dia 18/03/2026\, das 12h às 13h30\, na Plataforma Google Meet. \n\n\n\nSe você gosta de ler\, participe dos nossos encontros. Mesmo que você não tenha conseguido ler o livro indicado\, venha também\, todos são muito bem-vindos! \n\n\n\nLivros indicados para 2026:Março (dia 18/03/26\, das 12h às 13h30)1-Precisamos de Novos Nomes\, de Noviolet Bulawayo (Zimbábue\, 1981) \n\n\n\nEncontros seguintes em 2026 (datas a definir):2-A cabeça do santo\, de Socorro Acioli3-Louças de Família\, Eliane Marques4- Ruído\, de Daniel Kahneman5- Luanda\, Lisboa\, Paraíso\, de Djaimilia Pereira de Almeida \n\n\n\nCaso queira receber o link do encontro\, envie e-mail para: biazevic@usp.br
URL:https://site.fo.usp.br/evento/clube-do-livro/
CATEGORIES:Encontro
ATTACH;FMTTYPE=image/jpeg:https://site.fo.usp.br/wp-content/uploads/2026/03/Imagem-Destacada-Modelos-diversos-1-2.jpg
END:VEVENT
BEGIN:VEVENT
DTSTART;TZID=America/Sao_Paulo:20260318T170000
DTEND;TZID=America/Sao_Paulo:20260318T190000
DTSTAMP:20260425T132007
CREATED:20260311T134517Z
LAST-MODIFIED:20260311T134520Z
UID:10000813-1773853200-1773860400@site.fo.usp.br
SUMMARY:Lançamento oficial da iniciativa “FOUSP por Elas”
DESCRIPTION:O lançamento da iniciativa “FOUSP por Elas” será realizado no dia 18 de março de 2026\, às 17 horas no Auditório István Jancsó\, ma Biblioteca Brasiliana Guita e José Mindlin\, localizado na Rua da Biblioteca\, 21\, na Cidade Universitária. \n\n\n\nConvidamos a todos para prestigiar o lançamento: a entrada é livre e aberta ao público! \n\n\n\nA proposta pretende abrir um espaço permanente de discussão para fortalecer os laços de pertencimento\, acolhimento e integração das mulheres da FOUSP\, bem como valorizar suas trajetórias acadêmica\, científica\, profissional e institucional. \n\n\n\nAlém disso\, a iniciativa pretende promover alianças masculinas ativas para o apoio destas iniciativas na desconstrução de comportamentos misóginos e de respeito à autonomia feminina em qualquer de seus cenários profissionais e de vida. \n\n\n\nReservem esta data e horário nas suas agendas! \n\n\n\nProgramação: \n\n\n\n17h – Abertura do evento com a Profa. Dra. Maria Cristina Zindel Deboni\, Vice-diretora da FOUSP e do Prof. Dr. Giuseppe Alexandre Romito\, Diretor da FOUSP \n\n\n\n17h30 – “Conquistas e desafios do Escritório USP Mulheres”\, com a Profa. Dra. Adriana Alves\, docente do Instituto de Geociências e coordenadora do Escritório USP Mulheres entre 2021 e 2023 \n\n\n\n18h – Depoimentos sobre trajetórias na liderança feminina na USP com a Profa. Dra. Eloisa Bonfá. Diretora da Faculdade de Medicina e com a Profa. Dra. Liedi Légi Bariani Bernucci\, Vice-reitora da USP \n\n\n\n18h45 – Reflexões da audiência \n\n\n\n19h – Encerramento
URL:https://site.fo.usp.br/evento/lancamento-oficial-da-iniciativa-fousp-por-elas/
CATEGORIES:Projeto
ATTACH;FMTTYPE=image/jpeg:https://site.fo.usp.br/wp-content/uploads/2026/03/Imagem-Destacada-Modelos-diversos-1.jpg
END:VEVENT
BEGIN:VEVENT
DTSTART;TZID=America/Sao_Paulo:20260318T170000
DTEND;TZID=America/Sao_Paulo:20260318T200000
DTSTAMP:20260425T132007
CREATED:20260306T124547Z
LAST-MODIFIED:20260306T125449Z
UID:10000812-1773853200-1773864000@site.fo.usp.br
SUMMARY:FOUSP por Elas
DESCRIPTION:Lançamento da iniciativa “FOUSP por Elas” da Faculdade de Odontologia da Universidade de São Paulo\, no dia 18 de março de 2026\, no Auditório István Jancsó\, da Biblioteca Brasiliana Guita e José Mindlin\, Rua da Biblioteca\, 21.A proposta pretende abrir um espaço permanente de discussão para fortalecer os laços de pertencimento\, acolhimento e integração das mulheres da FOUSP\, bem como valorizar suas trajetórias acadêmica\, científica\, profissional e institucional. Além disso\, a iniciativa planeja promover alianças masculinas ativas para o apoio destas iniciativas na desconstrução de comportamentos misóginos e de respeito à autonomia feminina em qualquer de seus cenários profissionais e de vida.Reservem esta data e horário nas suas agendas! \n\n\n\nConvidamos todos os docentes\, discentes\, servidores(as) técnicos administrativos e demais trabalhadores(as) da FOUSP.
URL:https://site.fo.usp.br/evento/fousp-por-elas/
CATEGORIES:Ciclo de Palestras
ATTACH;FMTTYPE=image/jpeg:https://site.fo.usp.br/wp-content/uploads/2026/03/imagem-destacada-site-1.jpg
END:VEVENT
END:VCALENDAR