BEGIN:VCALENDAR
VERSION:2.0
PRODID:-//FOUSP - ECPv6.15.20//NONSGML v1.0//EN
CALSCALE:GREGORIAN
METHOD:PUBLISH
X-WR-CALNAME:FOUSP
X-ORIGINAL-URL:https://site.fo.usp.br
X-WR-CALDESC:Eventos para FOUSP
REFRESH-INTERVAL;VALUE=DURATION:PT1H
X-Robots-Tag:noindex
X-PUBLISHED-TTL:PT1H
BEGIN:VTIMEZONE
TZID:America/Sao_Paulo
BEGIN:STANDARD
TZOFFSETFROM:-0300
TZOFFSETTO:-0300
TZNAME:-03
DTSTART:20250101T000000
END:STANDARD
END:VTIMEZONE
BEGIN:VEVENT
DTSTART;TZID=America/Sao_Paulo:20260323T133000
DTEND;TZID=America/Sao_Paulo:20260323T190000
DTSTAMP:20260425T100619
CREATED:20260227T165830Z
LAST-MODIFIED:20260227T171254Z
UID:10000808-1774272600-1774292400@site.fo.usp.br
SUMMARY:Tese de Doutorado de Paula Sachet
DESCRIPTION:
URL:https://site.fo.usp.br/evento/tese-de-doutorado-de-paula-sachet/
CATEGORIES:Defesa de Tese
ATTACH;FMTTYPE=image/png:https://site.fo.usp.br/wp-content/uploads/2026/02/Lote-1-TV-Defesa-de-Teses-2026-Mala-Direta-2.png
END:VEVENT
BEGIN:VEVENT
DTSTART;TZID=America/Sao_Paulo:20260324T140000
DTEND;TZID=America/Sao_Paulo:20260324T180000
DTSTAMP:20260425T100619
CREATED:20260319T142252Z
LAST-MODIFIED:20260319T142254Z
UID:10000836-1774360800-1774375200@site.fo.usp.br
SUMMARY:Dissertação de Mestrado de Caroline Dutcovsky Santos
DESCRIPTION:
URL:https://site.fo.usp.br/evento/dissertacao-de-mestrado-de-caroline-dutcovsky-santos/
CATEGORIES:Defesa de Tese
ATTACH;FMTTYPE=image/png:https://site.fo.usp.br/wp-content/uploads/2026/03/2-7.png
END:VEVENT
BEGIN:VEVENT
DTSTART;TZID=America/Sao_Paulo:20260325T090000
DTEND;TZID=America/Sao_Paulo:20260325T090000
DTSTAMP:20260425T100619
CREATED:20251209T021103Z
LAST-MODIFIED:20251209T021106Z
UID:10000763-1774429200-1774429200@site.fo.usp.br
SUMMARY:Reunião do Conselho Técnico Administrativo – CTA
DESCRIPTION:
URL:https://site.fo.usp.br/evento/reuniao-do-conselho-tecnico-administrativo-cta-6/
CATEGORIES:Conselho Técnico Administrativo
END:VEVENT
BEGIN:VEVENT
DTSTART;TZID=America/Sao_Paulo:20260327T140000
DTEND;TZID=America/Sao_Paulo:20260327T190000
DTSTAMP:20260425T100619
CREATED:20260213T145326Z
LAST-MODIFIED:20260213T164622Z
UID:10000797-1774620000-1774638000@site.fo.usp.br
SUMMARY:Tese de Doutorado de Gabriela Frigini Cometti
DESCRIPTION:
URL:https://site.fo.usp.br/evento/tese-de-doutorado-de-gabriela-frigini-cometti/
CATEGORIES:Defesa de Tese
ATTACH;FMTTYPE=image/png:https://site.fo.usp.br/wp-content/uploads/2026/02/5.png
END:VEVENT
END:VCALENDAR