BEGIN:VCALENDAR
VERSION:2.0
PRODID:-//FOUSP - ECPv6.15.20//NONSGML v1.0//EN
CALSCALE:GREGORIAN
METHOD:PUBLISH
X-WR-CALNAME:FOUSP
X-ORIGINAL-URL:https://site.fo.usp.br
X-WR-CALDESC:Eventos para FOUSP
REFRESH-INTERVAL;VALUE=DURATION:PT1H
X-Robots-Tag:noindex
X-PUBLISHED-TTL:PT1H
BEGIN:VTIMEZONE
TZID:America/Sao_Paulo
BEGIN:STANDARD
TZOFFSETFROM:-0300
TZOFFSETTO:-0300
TZNAME:-03
DTSTART:20250101T000000
END:STANDARD
END:VTIMEZONE
BEGIN:VEVENT
DTSTART;TZID=America/Sao_Paulo:20261103T090000
DTEND;TZID=America/Sao_Paulo:20261103T120000
DTSTAMP:20260425T170526
CREATED:20251203T184915Z
LAST-MODIFIED:20251203T184918Z
UID:10000753-1793696400-1793707200@site.fo.usp.br
SUMMARY:Reunião do Comitê de Ética em Pesquisa
DESCRIPTION:
URL:https://site.fo.usp.br/evento/reuniao-do-comite-de-etica-em-pesquisa-3/
CATEGORIES:Comitê de Ética em Pesquisa
END:VEVENT
BEGIN:VEVENT
DTSTART;TZID=America/Sao_Paulo:20261106T090000
DTEND;TZID=America/Sao_Paulo:20261106T090000
DTSTAMP:20260425T170526
CREATED:20260115T115729Z
LAST-MODIFIED:20260115T115731Z
UID:10000790-1793955600-1793955600@site.fo.usp.br
SUMMARY:Reunião CCExFO
DESCRIPTION:
URL:https://site.fo.usp.br/evento/reuniao-ccexfo-11/
CATEGORIES:Comissão de Cultura e Extensão Universitária
END:VEVENT
END:VCALENDAR