BEGIN:VCALENDAR
VERSION:2.0
PRODID:-//FOUSP - ECPv6.15.20//NONSGML v1.0//EN
CALSCALE:GREGORIAN
METHOD:PUBLISH
X-WR-CALNAME:FOUSP
X-ORIGINAL-URL:https://site.fo.usp.br
X-WR-CALDESC:Eventos para FOUSP
REFRESH-INTERVAL;VALUE=DURATION:PT1H
X-Robots-Tag:noindex
X-PUBLISHED-TTL:PT1H
BEGIN:VTIMEZONE
TZID:America/Sao_Paulo
BEGIN:STANDARD
TZOFFSETFROM:-0300
TZOFFSETTO:-0300
TZNAME:-03
DTSTART:20240101T000000
END:STANDARD
END:VTIMEZONE
BEGIN:VEVENT
DTSTART;TZID=America/Sao_Paulo:20251215T083000
DTEND;TZID=America/Sao_Paulo:20251215T133000
DTSTAMP:20260424T230706
CREATED:20251021T104801Z
LAST-MODIFIED:20251021T104804Z
UID:10000735-1765787400-1765805400@site.fo.usp.br
SUMMARY:Tese de Doutorado de Mylena de Araújo Regis
DESCRIPTION:
URL:https://site.fo.usp.br/evento/tese-de-doutorado-de-mylena-de-araujo-regis/
CATEGORIES:Defesa de Tese
ATTACH;FMTTYPE=image/jpeg:https://site.fo.usp.br/wp-content/uploads/2025/10/9-1.jpg
END:VEVENT
BEGIN:VEVENT
DTSTART;TZID=America/Sao_Paulo:20251217T170000
DTEND;TZID=America/Sao_Paulo:20251217T200000
DTSTAMP:20260424T230706
CREATED:20251202T135843Z
LAST-MODIFIED:20251202T135847Z
UID:10000742-1765990800-1766001600@site.fo.usp.br
SUMMARY:Lançamento do livro "125 anos de história da Faculdade de Odontologia da Universidade de São Paulo"
DESCRIPTION:O Prof. Dr. Rodney Garcia Rocha nos presenteia com um mergulho ilustrado na trajetória de excelência da Faculdade de Odontologia da USP (FOUSP). \n\n\n\nSão 12 capítulos que contam desde sua origem\, até a FOUSP de hoje\, referência em pesquisa\, ensino e inclusão global. Uma história de mais de um século que moldou a Odontologia no Brasil \n\n\n\nO lançamento do livro será no dia 17 de dezembro de 2025\, às 17h\, no CRAI da Faculdade de Odontologia da USP. \n\n\n\nAvenida Professor Lineu Prestes\, 2227 \n\n\n\nRSVP: dirfo@usp.br
URL:https://site.fo.usp.br/evento/lancamento-do-livro-125-anos-de-historia-da-faculdade-de-odontologia-da-universidade-de-sao-paulo/
CATEGORIES:Aula Aberta
ATTACH;FMTTYPE=image/jpeg:https://site.fo.usp.br/wp-content/uploads/2025/12/FEED-Modelos-diversos-2026-1.jpg
END:VEVENT
END:VCALENDAR